BEGIN:VCALENDAR
PRODID:NingEventWidget-v1
VERSION:2.0
METHOD:PUBLISH
BEGIN:VTIMEZONE
TZID:Pacific/Midway
X-LIC-LOCATION:Pacific/Midway
BEGIN:STANDARD
TZOFFSETFROM:-1100
TZOFFSETTO:-1100
TZNAME:SST
DTSTART:19700101T000000
END:STANDARD
END:VTIMEZONE
BEGIN:VEVENT
UID:2274639:Event:300565
DTSTAMP:20260423T001737Z
SUMMARY:Platts 5th Annual Appalachian Gas Conference
DESCRIPTION:The conference is about opportunities and challenges for p
 roducing gas and NGLs in Appalachia.  It includes an outlook for prod
 uction by basin (esp. Marcellus and Utica), prices, markets, and infra
 structure development.\n\nFor more information visit https://gomarcell
 usshale.com/events/platts-5th-annual-appalachian-gas-conference
DTSTART;TZID=Pacific/Midway:20121015T000000
DTEND;TZID=Pacific/Midway:20121016T235900
CATEGORIES:networking, conference
LOCATION:Westin convention Center
WEBSITE:http://platts.com/ConferenceDetail/2012/pc233/index
URL:http://platts.com/ConferenceDetail/2012/pc233/index
CONTACT:781-430-2113
ORGANIZER;CN="Joshua Vernon":https://gomarcellusshale.com/profile/Josh
 uaVernon
ATTACH;FMTTYPE="image/jpeg":
ATTENDEE;ROLE=REQ-PARTICIPANT;PARTSTAT=ACCEPTED;RSVP=TRUE;CN="Joshua V
 ernon":https://gomarcellusshale.com/profile/JoshuaVernon
END:VEVENT
END:VCALENDAR
