BEGIN:VCALENDAR
PRODID:NingEventWidget-v1
VERSION:2.0
METHOD:PUBLISH
BEGIN:VTIMEZONE
TZID:Pacific/Midway
X-LIC-LOCATION:Pacific/Midway
BEGIN:STANDARD
TZOFFSETFROM:-1100
TZOFFSETTO:-1100
TZNAME:SST
DTSTART:19700101T000000
END:STANDARD
END:VTIMEZONE
BEGIN:VEVENT
UID:2274639:Event:330442
DTSTAMP:20260423T014326Z
SUMMARY:Professional Meeting: Marcellus Shale Breakfast Brief
DESCRIPTION:Are you an attorney, accountant or financial planner worki
 ng with Pennsylvania Marcellus Landowners? Then join Marshall, Parker 
 & Associates for our free breakfast meeting on October 10, 2012 in Wil
 liamsport.\nLearn about the newest developments in Marcellus Case Law 
 and find out about Pennsylvania's current status of the treatment of n
 atural gas interests for inheritance tax purposes from our special gue
 st speaker, J. Paul Diebert, former head of the PA Department of Reven
 ue Inheritance Tax Division.\nRegistration is free by calling 1-800-40
 1-4552 or visiting www.marcellusshalelawmonitor.com\n\nFor more inform
 ation visit https://gomarcellusshale.com/events/professional-meeting-m
 arcellus-shale-breakfast-brief
DTSTART;TZID=Pacific/Midway:20121010T080000
DTEND;TZID=Pacific/Midway:20121010T100000
CATEGORIES:professional, breakfast, meeting
LOCATION:The Holiday Inn Downtown
WEBSITE:http://www.marcellusshalelawmonitor.com
URL:http://www.marcellusshalelawmonitor.com
CONTACT:1-800-401-4552
ORGANIZER:Marshall, Parker & Associates
ATTACH;FMTTYPE="image/jpeg":http://storage.ning.com/topology/rest/1.0/
 file/get/97598682?profile=original
ATTENDEE;ROLE=REQ-PARTICIPANT;PARTSTAT=ACCEPTED;RSVP=TRUE;CN="Melissa 
 Bottorf":https://gomarcellusshale.com/profile/MelissaBottorf
END:VEVENT
END:VCALENDAR
