BEGIN:VCALENDAR
PRODID:NingEventWidget-v1
VERSION:2.0
METHOD:PUBLISH
BEGIN:VTIMEZONE
TZID:Pacific/Midway
X-LIC-LOCATION:Pacific/Midway
BEGIN:STANDARD
TZOFFSETFROM:-1100
TZOFFSETTO:-1100
TZNAME:SST
DTSTART:19700101T000000
END:STANDARD
END:VTIMEZONE
BEGIN:VEVENT
UID:2274639:Event:71786
DTSTAMP:20260425T104643Z
SUMMARY:Program to Help Fix Private Wells Produce Clean Safe Water
DESCRIPTION:Free Training and Informational Event to Help Area homeown
 ers that have an issue with their household water well may be able to 
 receive some technical and financial assistance through a program bein
 g administered by the Pocono Northeast resource Conservation & Develop
 ment (RC&D) Council.  The Council’s program called the Household Wa
 ter Well Assistance Program will be available beginning March 1st to p
 rovide very low interest loans to low to moderate income families in r
 ural areas to service, repair, or upgrade their household water well s
 ystem including new well construction, if necessary. \n \nThrough th
 e program, the Council will be able to provide low interest loans at a
  rate 1% for variable lending terms.  Homeowners must reside within r
 ural areas in the following counties (RC&D Service Area):  Carbon, Co
 lumbia, Lackawanna, Luzerne, Monroe, Montour, Northumberland, Pike, Sc
 huylkill, and/or Wayne.\n \nTraining and Information Meeting have bee
 n scheduled for\n\nMarch 14th- Monroe County Conservation District, 80
 50 Running Valley Road, Stroudsburg, PA  18360 (Monroe County)\nMarch
  21st- Lake Township Municipal Building, 488 State Route 29, Harvey's 
 Lake, PA 18618(Luzerne County)\nMarch 22nd- Columbia County Agricultur
 al Center, 702 Sawmill Road, Bloomsburg, PA  17815\nMarch 23th- Park 
 Street Complex, 648 Park Street, Honesdale, PA  18431 (Wayne County)\
 n\nApplications for the program will be available to homeowners beginn
 ing March 1st and applications will begin to be scored and evaluated f
 or acceptance into the program beginning April 25th.\n \nPlease pass 
 the word. \nPNERCD - http://www.pnercd.org\n\nFor more information vi
 sit https://gomarcellusshale.com/events/program-to-help-fix-private
DTSTART;TZID=Pacific/Midway:20110228T080000
DTEND;TZID=Pacific/Midway:20110401T190000
CATEGORIES:educational, and, assistance, program, free, event
LOCATION:multi county event
WEBSITE:http://www.pnercd.org
URL:http://www.pnercd.org
CONTACT:
ORGANIZER;CN="Brian Oram, PG":https://gomarcellusshale.com/profile/Bri
 anOramPG
ATTACH;FMTTYPE="image/jpeg":
ATTENDEE;ROLE=REQ-PARTICIPANT;PARTSTAT=ACCEPTED;RSVP=TRUE;CN="Brian Or
 am, PG":https://gomarcellusshale.com/profile/BrianOramPG
END:VEVENT
END:VCALENDAR
