BEGIN:VCALENDAR
PRODID:NingEventWidget-v1
VERSION:2.0
METHOD:PUBLISH
BEGIN:VTIMEZONE
TZID:Pacific/Midway
X-LIC-LOCATION:Pacific/Midway
BEGIN:STANDARD
TZOFFSETFROM:-1100
TZOFFSETTO:-1100
TZNAME:SST
DTSTART:19700101T000000
END:STANDARD
END:VTIMEZONE
BEGIN:VEVENT
UID:2274639:Event:87937
DTSTAMP:20260425T144151Z
SUMMARY:Project Management and Six Sigma Training- Become a Black Belt
DESCRIPTION:Our project management certificate program makes it easier
  and more affordable than ever to take your career to the next level.\
 nProject management as a profession has grown exponentially over the l
 ast 30 years. Many organizations recognize the value of project manage
 ment as an effective way to achieve business results. Project manageme
 nt standards and practices can be found in all industries (i.e. constr
 uction, manufacturing, aerospace, and telecommunications) and all disc
 iplines (i.e. engineering, information technology, human resources, an
 d product development) worldwide. As the interest and demand for proje
 ct management standardization increases, so does the demand for highly
  qualified project management practitioners.\n \nOur Six Sigma Green 
 Belt certification course provides students with a solid foundation in
  the Six Sigma methodology. Six Sigma is a Quality Improvement methodo
 logy structured to reduce product or service failure rates to a neglig
 ible level (roughly 3.4 failures per million opportunities). To achiev
 e six sigma levels, the Six Sigma process encompasses all aspects of a
  business, including management, service delivery, design, production 
 and customer satisfaction.\n \nLearn how to manage projects, develop 
 time lines, measure success, and be efficient at project management.\n
 \nFor more information visit https://gomarcellusshale.com/events/proje
 ct-management-and-six
DTSTART;TZID=Pacific/Midway:20111107T180000
DTEND;TZID=Pacific/Midway:20111124T190000
CATEGORIES:online, certification, program, training, certificate, work
 shop
LOCATION:online training, internet
WEBSITE:http://www.bfenvironmental.com/agriotrain.php
URL:http://www.bfenvironmental.com/agriotrain.php
CONTACT:570-335-1947
ORGANIZER;CN="Brian Oram, PG":https://gomarcellusshale.com/profile/Bri
 anOramPG
ATTACH;FMTTYPE="image/jpeg":http://storage.ning.com/topology/rest/1.0/
 file/get/97589156?profile=original
ATTENDEE;ROLE=REQ-PARTICIPANT;PARTSTAT=ACCEPTED;RSVP=TRUE;CN="Brian Or
 am, PG":https://gomarcellusshale.com/profile/BrianOramPG
END:VEVENT
END:VCALENDAR
