BEGIN:VCALENDAR
PRODID:NingEventWidget-v1
VERSION:2.0
METHOD:PUBLISH
BEGIN:VTIMEZONE
TZID:Pacific/Midway
X-LIC-LOCATION:Pacific/Midway
BEGIN:STANDARD
TZOFFSETFROM:-1100
TZOFFSETTO:-1100
TZNAME:SST
DTSTART:19700101T000000
END:STANDARD
END:VTIMEZONE
BEGIN:VEVENT
UID:2274639:Event:66418
DTSTAMP:20260425T074719Z
SUMMARY:PWEA's Marcellus Shale Conference & Exhibition
DESCRIPTION:Water Management Issues with Marcellus Shale Gas Developme
 nt:  Understanding, Managing and Protection Pennsylvania's Water Reso
 urces\nThis conference will be held at Mansfield University in Mansfie
 ld, PA, on March 8-9. \nRegistration & exhibit information can be fou
 nd at:\nhttp://www.pwea.org/continuing-education/specialty-conferences
 /\nor send an email to:  pweameetings@npacc.net.\n\nFor more informat
 ion visit https://gomarcellusshale.com/events/pweas-marcellus-shale
DTSTART;TZID=Pacific/Midway:20110308T163000
DTEND;TZID=Pacific/Midway:20110309T150000
CATEGORIES:conference
LOCATION:Mansfield University
WEBSITE:
URL:
CONTACT:570-549-2204
ORGANIZER;CN="Cindy Rock":https://gomarcellusshale.com/profile/CindyRo
 ck
ATTACH;FMTTYPE="image/jpeg":
ATTENDEE;ROLE=REQ-PARTICIPANT;PARTSTAT=ACCEPTED;RSVP=TRUE;CN="Cindy Ro
 ck":https://gomarcellusshale.com/profile/CindyRock
END:VEVENT
END:VCALENDAR
