BEGIN:VCALENDAR
PRODID:NingEventWidget-v1
VERSION:2.0
METHOD:PUBLISH
BEGIN:VTIMEZONE
TZID:Pacific/Midway
X-LIC-LOCATION:Pacific/Midway
BEGIN:STANDARD
TZOFFSETFROM:-1100
TZOFFSETTO:-1100
TZNAME:SST
DTSTART:19700101T000000
END:STANDARD
END:VTIMEZONE
BEGIN:VEVENT
UID:2274639:Event:190192
DTSTAMP:20260425T132053Z
SUMMARY:REGIONAL SUPPLEMENT & WETLAND DELINEATION TRAINING
DESCRIPTION:The new Army Corps of Engineers Wetland Regional Supplemen
 ts are published and many of them are being used for permit decisions.
  Even if you are an experienced wetland delineator, you need this clas
 s. Each Regional Supplement presents unique challenges that warrant tr
 aining to fully understand.  The Swamp School has developed a customiz
 ed learning program for each of these regions. The classes are offered
  in local provinces based upon socio- economic as well as ecological c
 haracteristics.  If you want to get up to speed on the latest updates 
 to the Corps Wetland Delineation Manual sign up today at: http://Swamp
 School.org or call 1-877-4SwampEd (1-877-479-2673).\n\nFor more inform
 ation visit https://gomarcellusshale.com/events/regional-supplement-we
 tland-delineation-training
DTSTART;TZID=Pacific/Midway:20111114T000000
DTEND;TZID=Pacific/Midway:20111118T235900
CATEGORIES:training
LOCATION:Columbia, SC
WEBSITE:http://SwampSchool.org
URL:http://SwampSchool.org
CONTACT:877-479-2673
ORGANIZER;CN="Marc Seelinger":https://gomarcellusshale.com/profile/Mar
 cSeelinger
ATTACH;FMTTYPE="image/jpeg":http://storage.ning.com/topology/rest/1.0/
 file/get/97591271?profile=original
ATTENDEE;ROLE=REQ-PARTICIPANT;PARTSTAT=ACCEPTED;RSVP=TRUE;CN="Marc See
 linger":https://gomarcellusshale.com/profile/MarcSeelinger
END:VEVENT
END:VCALENDAR
