BEGIN:VCALENDAR
PRODID:NingEventWidget-v1
VERSION:2.0
METHOD:PUBLISH
BEGIN:VTIMEZONE
TZID:Pacific/Midway
X-LIC-LOCATION:Pacific/Midway
BEGIN:STANDARD
TZOFFSETFROM:-1100
TZOFFSETTO:-1100
TZNAME:SST
DTSTART:19700101T000000
END:STANDARD
END:VTIMEZONE
BEGIN:VEVENT
UID:2274639:Event:20433
DTSTAMP:20260425T002537Z
SUMMARY:Shale Gas Drilling & Completions
DESCRIPTION:Whether you have experience in drilling and producing from
  shale gas plays, or you are about to gain access to shale gas resourc
 es, you are faced with ongoing challenges to ensure the technical and 
 financial efficiency of drilling and well completions.\n\nShale Gas Dr
 illing & Completions 2010, delivers key insight into applying cutting-
 edge drilling and completions techniques used throughout diverse shale
  projects in the US & Canada. Leading shale producers will share real 
 life examples of their drilling and completions success and challenges
  - including experience from the Barnett, Haynesville, Horn River, Mar
 cellus, Woodford and Fayetteville shale plays.\n\nBy attending this in
 dustry leading event, you will have the opportunity to benchmark your 
 drilling and completion techniques with your peers. You will gain expe
 rt insight from case history examples, to help reduce the cost and inc
 rease the efficiency of developing new plays. You will also learn effe
 ctive completions techniques that will ensure the continued success ac
 ross the production lifecycle of the play.\n\nKey topics for discussio
 n include:\n- HPHT drilling and completions in the Haynesville Shale\n
 - Proppant selection, supply and implications on shale stimulations\n-
  Flowback considerations for multi-stage horizontal well completions\n
 - Completion strategies to maximise shale recovery\nPerfecting perfora
 ting and fracturing techniques\n- Taking a proactive approach to water
  recycling\n- Horizontal Well placement techniques\n\nFor more informa
 tion visit https://gomarcellusshale.com/events/shale-gas-drilling
DTSTART;TZID=Pacific/Midway:20100526T000000
DTEND;TZID=Pacific/Midway:20100528T235900
CATEGORIES:conference
LOCATION:Omni West, Houston, Texas
WEBSITE:http://www.sgdchouston.com/Event.aspx?id=269414
URL:http://www.sgdchouston.com/Event.aspx?id=269414
CONTACT:
ORGANIZER:
ATTACH;FMTTYPE="image/jpeg":
ATTENDEE;ROLE=REQ-PARTICIPANT;PARTSTAT=ACCEPTED;RSVP=TRUE;CN="Keith Ma
 uck (Site Publisher)":https://gomarcellusshale.com/profile/marcellus_s
 hale
END:VEVENT
END:VCALENDAR
