BEGIN:VCALENDAR
PRODID:NingEventWidget-v1
VERSION:2.0
METHOD:PUBLISH
BEGIN:VTIMEZONE
TZID:Pacific/Midway
X-LIC-LOCATION:Pacific/Midway
BEGIN:STANDARD
TZOFFSETFROM:-1100
TZOFFSETTO:-1100
TZNAME:SST
DTSTART:19700101T000000
END:STANDARD
END:VTIMEZONE
BEGIN:VEVENT
UID:2274639:Event:65714
DTSTAMP:20260425T010859Z
SUMMARY:Shale Gas Water Management - Marcellus Initiative 2011
DESCRIPTION:Driving Forward Advancements In Water Sourcing, Management
  And Re-UseTo Maximize Profitable Shale Gas Production\n13-14 April, 2
 011 - Pittsburgh, Pennsylvania\n\nFor more information visit https://g
 omarcellusshale.com/events/shale-gas-water-management-1
DTSTART;TZID=Pacific/Midway:20110413T070000
DTEND;TZID=Pacific/Midway:20110414T070000
CATEGORIES:conference
LOCATION:Pittsburgh, Pennsylvania
WEBSITE:http://www.shale-gas-water-management-2011.com/
URL:http://www.shale-gas-water-management-2011.com/
CONTACT:
ORGANIZER;CN="Martyn Black":https://gomarcellusshale.com/profile/Marty
 nBlack
ATTACH;FMTTYPE="image/jpeg":
ATTENDEE;ROLE=REQ-PARTICIPANT;PARTSTAT=ACCEPTED;RSVP=TRUE;CN="James Ha
 rber":https://gomarcellusshale.com/profile/JamesPHarber
ATTENDEE;ROLE=REQ-PARTICIPANT;PARTSTAT=ACCEPTED;RSVP=TRUE;CN="Martyn B
 lack":https://gomarcellusshale.com/profile/MartynBlack
ATTENDEE;ROLE=REQ-PARTICIPANT;PARTSTAT=TENTATIVE;RSVP=TRUE;CN="Robert 
 J Ellis":https://gomarcellusshale.com/profile/RobertJEllis
END:VEVENT
END:VCALENDAR
