BEGIN:VCALENDAR
PRODID:NingEventWidget-v1
VERSION:2.0
METHOD:PUBLISH
BEGIN:VTIMEZONE
TZID:Pacific/Midway
X-LIC-LOCATION:Pacific/Midway
BEGIN:STANDARD
TZOFFSETFROM:-1100
TZOFFSETTO:-1100
TZNAME:SST
DTSTART:19700101T000000
END:STANDARD
END:VTIMEZONE
BEGIN:VEVENT
UID:2274639:Event:222425
DTSTAMP:20260424T154119Z
SUMMARY:Shale Gas Water Management Marcellus Initiative 2012
DESCRIPTION:The mission of the Shale Gas Water Management, Marcellus 
 Initiative 2012 is to once more bring together E&P executives, senior
  decision makers, technical experts and strategic professionals workin
 g in the Marcellus to drive forward solutions at every level of water 
 management from sourcing to reuse to treatment, recycling, transportat
 ion, storage and disposal.  Including experts from: EOG Resources, Ch
 esapeake Energy, Seneca Resources, Anadarko, Talisman Energy, Consol, 
 Antero Resources, WPX Energy and many more.  Workshops on March 27.\n
 \nFor more information visit https://gomarcellusshale.com/events/shale
 -gas-water-management-marcellus-initiative-2012-1
DTSTART;TZID=Pacific/Midway:20120328T000000
DTEND;TZID=Pacific/Midway:20120329T235900
CATEGORIES:conference
LOCATION:Hilton Garden Inn
WEBSITE:
URL:
CONTACT:
ORGANIZER;CN="Louise Gosling":https://gomarcellusshale.com/profile/Lou
 iseGosling
ATTACH;FMTTYPE="image/jpeg":
ATTENDEE;ROLE=REQ-PARTICIPANT;PARTSTAT=ACCEPTED;RSVP=TRUE;CN="Louise G
 osling":https://gomarcellusshale.com/profile/LouiseGosling
END:VEVENT
END:VCALENDAR
