BEGIN:VCALENDAR
PRODID:NingEventWidget-v1
VERSION:2.0
METHOD:PUBLISH
BEGIN:VTIMEZONE
TZID:Pacific/Midway
X-LIC-LOCATION:Pacific/Midway
BEGIN:STANDARD
TZOFFSETFROM:-1100
TZOFFSETTO:-1100
TZNAME:SST
DTSTART:19700101T000000
END:STANDARD
END:VTIMEZONE
BEGIN:VEVENT
UID:2274639:Event:50820
DTSTAMP:20260425T030818Z
SUMMARY:Shale Gas Water Management Initiative
DESCRIPTION:The Global Shale Gas Water Management Initiative 2010 is t
 he only event on the global market which provides a comprehensive tool
 kit of cost effective water management solutions to shale gas operator
 s industry-wide. Water sourcing, disposal, treatment and re-cycling wi
 ll be targeted from four perspectives to provide maximum industry impa
 ct: strategic, technological, regulatory and case-study based learning
 . By using this dynamic approach, the key issues in the market will be
  addressed to provide attendees with take-away solutions that can be i
 mplemented directly to business operations to reach maximum efficiency
 .\n\nFor more information visit https://gomarcellusshale.com/events/sh
 ale-gas-water-management
DTSTART;TZID=Pacific/Midway:20101028T000000
DTEND;TZID=Pacific/Midway:20101029T235900
CATEGORIES:conference, and, site, visit
LOCATION:Crowne Plaza
WEBSITE:http://www.shale-gas-water-management.com/venue.accommodation.
 asp
URL:http://www.shale-gas-water-management.com/venue.accommodation.asp
CONTACT:800-721-3915
ORGANIZER:American Business Conferences
ATTACH;FMTTYPE="image/jpeg":http://storage.ning.com/topology/rest/1.0/
 file/get/97588047?profile=original
ATTENDEE;ROLE=REQ-PARTICIPANT;PARTSTAT=ACCEPTED;RSVP=TRUE;CN="Louise G
 osling":https://gomarcellusshale.com/profile/LouiseGosling
END:VEVENT
END:VCALENDAR
