BEGIN:VCALENDAR
PRODID:NingEventWidget-v1
VERSION:2.0
METHOD:PUBLISH
BEGIN:VTIMEZONE
TZID:Pacific/Midway
X-LIC-LOCATION:Pacific/Midway
BEGIN:STANDARD
TZOFFSETFROM:-1100
TZOFFSETTO:-1100
TZNAME:SST
DTSTART:19700101T000000
END:STANDARD
END:VTIMEZONE
BEGIN:VEVENT
UID:2274639:Event:63780
DTSTAMP:20260424T232820Z
SUMMARY:Showcase -  Educational Opportunities and Facilities in Northw
 est PA
DESCRIPTION:Event Flyer and Registration\nhttp://nwpamarcellusshale.co
 m\n \n\nFor more information visit https://gomarcellusshale.com/event
 s/showcase-educational
DTSTART;TZID=Pacific/Midway:20110209T100000
DTEND;TZID=Pacific/Midway:20110209T140000
CATEGORIES:showcase, -, educational, opportunities, and, facilities, i
 n, northwest, pa, miller, "training/sperian", fall, arrest, systems, i
 nc
LOCATION:Miller Training/Sperian Fall Arrest Systems, Inc
WEBSITE:http://maps.google.com/maps?f=q&source=s_q&hl=en&geocode=&q=13
 45+15th+St,+Franklin,+PA+16323&sll=36.315125,-73.388672&sspn=33.755184
 ,69.960938&ie=UTF8&hq=&hnear=1345+15th+St,+Franklin,+Venango,+Pennsylv
 ania+16323&ll=41.38539,-79.848998&spn=0.007728,0.01708&z=16&iwloc=A
URL:http://maps.google.com/maps?f=q&source=s_q&hl=en&geocode=&q=1345+1
 5th+St,+Franklin,+PA+16323&sll=36.315125,-73.388672&sspn=33.755184,69.
 960938&ie=UTF8&hq=&hnear=1345+15th+St,+Franklin,+Venango,+Pennsylvania
 +16323&ll=41.38539,-79.848998&spn=0.007728,0.01708&z=16&iwloc=A
CONTACT:814-677-4427
ORGANIZER:Keystone CEC, Oil Region Alliance, PA CareerLink
ATTACH;FMTTYPE="image/jpeg":
ATTENDEE;ROLE=REQ-PARTICIPANT;PARTSTAT=ACCEPTED;RSVP=TRUE;CN="Bonnie S
 treyle":https://gomarcellusshale.com/profile/BonnieStreyle
END:VEVENT
END:VCALENDAR
