BEGIN:VCALENDAR
PRODID:NingEventWidget-v1
VERSION:2.0
METHOD:PUBLISH
BEGIN:VTIMEZONE
TZID:Pacific/Midway
X-LIC-LOCATION:Pacific/Midway
BEGIN:STANDARD
TZOFFSETFROM:-1100
TZOFFSETTO:-1100
TZNAME:SST
DTSTART:19700101T000000
END:STANDARD
END:VTIMEZONE
BEGIN:VEVENT
UID:2274639:Event:354229
DTSTAMP:20260422T230208Z
SUMMARY:Soils, Infiltration Testing, and Stormwater Management
DESCRIPTION:\nThe course will provide an introduction into the environ
 mental applications of soil science and soil morphology. During the pr
 esentation portion of the course, we will discuss the properties and c
 haracteristics of a soil, soil formation/ transformation, and soil hyd
 rology. During the field portion of the course, we will be learning ho
 w to describe some of the physical properties of a soil (soil texture,
  structure, consistency, color), identifying soil horizons, and make i
 nterpretations related to the movement of water through the soil profi
 le as it relates to on-site wastewater disposal and stormwater managem
 ent.\nInstructor: Brian Oram is a Professional Geologist and Soil Scie
 ntist with B.F. Environmental Consultants. He is a licensed profession
 al geologist, licensed Well Driller, Professional Soil Scientist, and 
 licensed Sewage Enforcement Officer in the Commonwealth of Pennsylvani
 a with over 20 years experience in conducting hydrogeological investig
 ations related to water supply development, contaminant migration, wet
 land mitigation, and land based wastewater disposal systems.\n\nFor mo
 re information visit https://gomarcellusshale.com/events/soils-infiltr
 ation-testing-and-stormwater-management
DTSTART;TZID=Pacific/Midway:20121109T000000
DTEND;TZID=Pacific/Midway:20121109T235900
CATEGORIES:continuing, education, hands, on, training, soils, hydric
LOCATION:Wilkes Barre, PA
WEBSITE:http://www.wilkes.edu/pages/1703.asp
URL:http://www.wilkes.edu/pages/1703.asp
CONTACT:570-335-1947
ORGANIZER;CN="Brian Oram, PG":https://gomarcellusshale.com/profile/Bri
 anOramPG
ATTACH;FMTTYPE="image/jpeg":
ATTENDEE;ROLE=REQ-PARTICIPANT;PARTSTAT=ACCEPTED;RSVP=TRUE;CN="Brian Or
 am, PG":https://gomarcellusshale.com/profile/BrianOramPG
END:VEVENT
END:VCALENDAR
