BEGIN:VCALENDAR
PRODID:NingEventWidget-v1
VERSION:2.0
METHOD:PUBLISH
BEGIN:VTIMEZONE
TZID:Pacific/Midway
X-LIC-LOCATION:Pacific/Midway
BEGIN:STANDARD
TZOFFSETFROM:-1100
TZOFFSETTO:-1100
TZNAME:SST
DTSTART:19700101T000000
END:STANDARD
END:VTIMEZONE
BEGIN:VEVENT
UID:2274639:Event:30771
DTSTAMP:20260424T161426Z
SUMMARY:Sustainable Energy Fund- NO Cost and Low Cost Energy – Solut
 ions for Citizens and Businesses
DESCRIPTION:Program will provide citizens and businesses with the tool
 s and information needed to understand the energy business from genera
 tion to point of use. The program will provide insights into reducing 
 energy cost and usage and funding energy related projects.\n\nFor more
  information visit https://gomarcellusshale.com/events/sustainable-ene
 rgy-fund-no
DTSTART;TZID=Pacific/Midway:20100626T180000
DTEND;TZID=Pacific/Midway:20100626T193000
CATEGORIES:educational, informational, event
LOCATION:Luzerne County Fairgrounds
WEBSITE:http://www.pnesolutions.org/energy_expo.htm
URL:http://www.pnesolutions.org/energy_expo.htm
CONTACT:570-335-1947
ORGANIZER;CN="Brian Oram, PG":https://gomarcellusshale.com/profile/Bri
 anOramPG
ATTACH;FMTTYPE="image/jpeg":
ATTENDEE;ROLE=REQ-PARTICIPANT;PARTSTAT=ACCEPTED;RSVP=TRUE;CN="Brian Or
 am, PG":https://gomarcellusshale.com/profile/BrianOramPG
END:VEVENT
END:VCALENDAR
