BEGIN:VCALENDAR
PRODID:NingEventWidget-v1
VERSION:2.0
METHOD:PUBLISH
BEGIN:VTIMEZONE
TZID:Pacific/Midway
X-LIC-LOCATION:Pacific/Midway
BEGIN:STANDARD
TZOFFSETFROM:-1100
TZOFFSETTO:-1100
TZNAME:SST
DTSTART:19700101T000000
END:STANDARD
END:VTIMEZONE
BEGIN:VEVENT
UID:2274639:Event:757954
DTSTAMP:20260425T113736Z
SUMMARY:Sustainable & Scalable Cost Effective Well Site Facilities Ons
 hore Summit
DESCRIPTION:The Sustainable & Scalable Cost Effective Well Site Facili
 ties Onshore Summit 2017 is the national learning hub for facilities 
 engineering and North America's only E&P driven event dedicated to opt
 imizing facility performance, mechanical integrity & footprint reducti
 on. \n \nThe 2017 event returns this September in Houston featuring 
 our biggest speaker line up yet with North America’s Most Active Ope
 rators including Apache, Noble, Marathon, Oasis, Occidental, Resolute 
 Energy, Chaparral Energy, TAQA North, Statoil, Southwestern Energy, P&
 I Energy and many more.\n \nKey Speakers include:\n\nJan Kulmann, Eng
 ineering Manager, Noble Energy\nMark Bruchman, Facilities Manager, Apa
 che Corporation\nHans Ryham, Facilities Engineering Advisor, Occidenta
 l Petroleum\nBrian Lipscomb, Facilities Engineering Supervisor, Marath
 on Oil\nNick Chipponeri, Facilities Engineer, Oasis Petroleum\nEd Trot
 ter, Facilities Projects Manager, Resolute Energy\nAaron McGee, Manage
 r, Automation, Chaparral Energy\nLance McKinnon, Senior Facilities Eng
 ineer, TAQA North\nDesikan Sundararajan, O&M Shale Oil and Gas R&T, St
 atoil North America\nDonald Sevier, Production Facilities Manager, Sou
 thwestern Energy\nNeal Prescott, Chairman & CEO, P&I Energy\nNick Klau
 s, President, Wellflex Energy Solutions\nSharon McCurdy, Sales Manager
  - Flow Metering Lead , Emerson\nJeremy Olson, Director of Business De
 velopment & Engineering, Distribution Now\nDonnie Miller, Business Dev
 elopment, Distribution Now\nSylvian Levac, Corporate Sales Executive, 
 Master Flo Valve Inc.\nAndy Yin, Global Business Development Manager, 
 Beijing Anpan New Technology Co. Ltd.\nMark Patton, Vice President Sal
 es & Marketing, Hydrozonix\n\n \nImprovements & Innovations Built Int
 o The 2017 Agenda\n\nSpeaker Line-Up Like Seen Never Before: Greater 
 representation from Majors, Super Majors and Mid-sized Operators that 
 are maximizing facilities performance by leaps and bounds. More speake
 rs added every week.\n3 Days, Over 25 Speakers, 24+ Hours of Learning 
 & Networking And Multiple Registration Options: Take back specially d
 esigned workshop material plus all conference presentations\nDig deepe
 r into topics as more granular level data and nuts & bolts specifics 
 are shared\nCase studies reflecting actual results and best practices
  for doing more with less, while cutting costs as much as possible\nAc
 tual Lessons Learned: Real information on what operators tested, what
  equipment they installed, what results they got and how it helped the
 m better themselves\nWith no grey areas and no stones left unturned, 
 speakers in 2017 will deliver practical, working examples and end-to-
 end case studies - simply, fully and in a quick manner\n\n \nFor Mor
 e information visit www.facilities-design-onshore.com\n\nFor more info
 rmation visit https://gomarcellusshale.com/events/sustainable-scalable
 -cost-effective-well-site-facilities-onshore-
DTSTART;TZID=Pacific/Midway:20170926T000000
DTEND;TZID=Pacific/Midway:20170928T235900
CATEGORIES:summit
LOCATION:Houston, TX
WEBSITE:
URL:
CONTACT:
ORGANIZER;CN="Keith Mauck (Site Publisher)":https://gomarcellusshale.c
 om/profile/marcellus_shale
ATTACH;FMTTYPE="image/jpeg":http://storage.ning.com/topology/rest/1.0/
 file/get/97618958?profile=original
ATTENDEE;ROLE=REQ-PARTICIPANT;PARTSTAT=ACCEPTED;RSVP=TRUE;CN="Keith Ma
 uck (Site Publisher)":https://gomarcellusshale.com/profile/marcellus_s
 hale
END:VEVENT
END:VCALENDAR
