BEGIN:VCALENDAR
PRODID:NingEventWidget-v1
VERSION:2.0
METHOD:PUBLISH
BEGIN:VTIMEZONE
TZID:Pacific/Midway
X-LIC-LOCATION:Pacific/Midway
BEGIN:STANDARD
TZOFFSETFROM:-1100
TZOFFSETTO:-1100
TZNAME:SST
DTSTART:19700101T000000
END:STANDARD
END:VTIMEZONE
BEGIN:VEVENT
UID:2274639:Event:763113
DTSTAMP:20260425T130230Z
SUMMARY:Tax-Deferred 1031 Exchange - Oil &amp; Gas Seminar
DESCRIPTION:Are you still waiting to make money on your oil, gas & min
 eral rights?\n If you are waiting for a lease or are not currently in
  a drilling unit, you may be 2-3+ years away from making money on your
  oil, gas & mineral rights. \n That vault of cash can be unlocked no
 w and turned into monthly cash flow!\nJoin Us For A Free Seminar To Le
 arn More!\n\nTax-Deferred 1031 Exchange\nThe process of selling oil, g
 as & mineral rights\nWhat if my oil, gas & mineral rights are leased?\
 nWhat are my oil, gas & mineral rights worth?\nWhen will my oil, gas &
  mineral rights get drilled or leased? Will my lease get renewed?\nEva
 luating legitimate buyers\nHow buyers value oil & gas rights\nSelling 
 farmland or hunting land\n\nFor more details - RSVP: Phone: 724-933-13
 11 Email: contact@cx-energy.com  Website: www.cx-energy.com\n\nFor mor
 e information visit https://gomarcellusshale.com/events/tax-deferred-1
 031-exchange-oil-amp-gas-seminar
DTSTART;TZID=Pacific/Midway:20171003T190000
DTEND;TZID=Pacific/Midway:20171003T200000
CATEGORIES:free, seminar
LOCATION:Hampton Inn
WEBSITE:http://cx-energy.com/ogm-seminars/
URL:http://cx-energy.com/ogm-seminars/
CONTACT:724-933-1311
ORGANIZER;CN="Becky Moore":https://gomarcellusshale.com/profile/BeckyM
 oore
ATTACH;FMTTYPE="image/jpeg":http://storage.ning.com/topology/rest/1.0/
 file/get/97619360?profile=original
ATTENDEE;ROLE=REQ-PARTICIPANT;PARTSTAT=ACCEPTED;RSVP=TRUE;CN="Becky Mo
 ore":https://gomarcellusshale.com/profile/BeckyMoore
END:VEVENT
END:VCALENDAR
