BEGIN:VCALENDAR
PRODID:NingEventWidget-v1
VERSION:2.0
METHOD:PUBLISH
BEGIN:VTIMEZONE
TZID:Pacific/Midway
X-LIC-LOCATION:Pacific/Midway
BEGIN:STANDARD
TZOFFSETFROM:-1100
TZOFFSETTO:-1100
TZNAME:SST
DTSTART:19700101T000000
END:STANDARD
END:VTIMEZONE
BEGIN:VEVENT
UID:2274639:Event:295274
DTSTAMP:20260423T031458Z
SUMMARY:The 2012 Frac Sand Supply & Logistics Conference
DESCRIPTION:Please join us September 27 & 28, 2012 at The Gaylord Texa
 n Hotel in Grapevine, TX for the 2012 Frac Sand Supply & Logistics Con
 ference!\n\nFor more information visit https://gomarcellusshale.com/ev
 ents/the-2012-frac-sand-supply-logistics-conference
DTSTART;TZID=Pacific/Midway:20120927T083000
DTEND;TZID=Pacific/Midway:20120928T120000
CATEGORIES:industry, event
LOCATION:The Gaylord Texan
WEBSITE:http://www.sandconference.com/
URL:http://www.sandconference.com/
CONTACT:(888) 906-9898
ORGANIZER;CN="Peter Cook":https://gomarcellusshale.com/profile/PeterCo
 ok
ATTACH;FMTTYPE="image/jpeg":http://storage.ning.com/topology/rest/1.0/
 file/get/97597169?profile=original
ATTENDEE;ROLE=REQ-PARTICIPANT;PARTSTAT=ACCEPTED;RSVP=TRUE;CN="Peter Co
 ok":https://gomarcellusshale.com/profile/PeterCook
END:VEVENT
END:VCALENDAR
