BEGIN:VCALENDAR
PRODID:NingEventWidget-v1
VERSION:2.0
METHOD:PUBLISH
BEGIN:VTIMEZONE
TZID:Pacific/Midway
X-LIC-LOCATION:Pacific/Midway
BEGIN:STANDARD
TZOFFSETFROM:-1100
TZOFFSETTO:-1100
TZNAME:SST
DTSTART:19700101T000000
END:STANDARD
END:VTIMEZONE
BEGIN:VEVENT
UID:2274639:Event:438570
DTSTAMP:20260420T032720Z
SUMMARY:The 2013 Oilfield Housing Solutions Conference
DESCRIPTION:Join us May 9 & 10 at the Westin La Cantera Resort in San 
 Antonio to discuss oilfield housing solutions! The conference will bri
 ng together oil & gas professionals, municipal officials, housing solu
 tion providers, and others.\n\nFor more information visit https://goma
 rcellusshale.com/events/the-2013-oilfield-housing-solutions-conference
DTSTART;TZID=Pacific/Midway:20130509T080000
DTEND;TZID=Pacific/Midway:20130510T120000
CATEGORIES:conference
LOCATION:The Westin La Cantera Resort
WEBSITE:http://www.petroleumhousing.com
URL:http://www.petroleumhousing.com
CONTACT:(888) 906-9898
ORGANIZER;CN="Peter Cook":https://gomarcellusshale.com/profile/PeterCo
 ok
ATTACH;FMTTYPE="image/jpeg":
ATTENDEE;ROLE=REQ-PARTICIPANT;PARTSTAT=ACCEPTED;RSVP=TRUE;CN="Peter Co
 ok":https://gomarcellusshale.com/profile/PeterCook
END:VEVENT
END:VCALENDAR
