BEGIN:VCALENDAR
PRODID:NingEventWidget-v1
VERSION:2.0
METHOD:PUBLISH
BEGIN:VTIMEZONE
TZID:Pacific/Midway
X-LIC-LOCATION:Pacific/Midway
BEGIN:STANDARD
TZOFFSETFROM:-1100
TZOFFSETTO:-1100
TZNAME:SST
DTSTART:19700101T000000
END:STANDARD
END:VTIMEZONE
BEGIN:VEVENT
UID:2274639:Event:439493
DTSTAMP:20260419T204404Z
SUMMARY:The 2nd Annual Frac Sand Supply & Logistics Conference
DESCRIPTION:Join us at the luxurious JW Marriott Hill Country Resort i
 n San Antonio for the largest event of the year focused exclusively on
  frac sand and proppant supply.\n\nFor more information visit https://
 gomarcellusshale.com/events/the-2nd-annual-frac-sand-supply-logistics-
 conference
DTSTART;TZID=Pacific/Midway:20130905T080000
DTEND;TZID=Pacific/Midway:20130906T120000
CATEGORIES:conference
LOCATION:The JW Marriott Hill Country Resort
WEBSITE:http://www.sandconference.com
URL:http://www.sandconference.com
CONTACT:
ORGANIZER;CN="Peter Cook":https://gomarcellusshale.com/profile/PeterCo
 ok
ATTACH;FMTTYPE="image/jpeg":
ATTENDEE;ROLE=REQ-PARTICIPANT;PARTSTAT=ACCEPTED;RSVP=TRUE;CN="Peter Co
 ok":https://gomarcellusshale.com/profile/PeterCook
END:VEVENT
END:VCALENDAR
