BEGIN:VCALENDAR
PRODID:NingEventWidget-v1
VERSION:2.0
METHOD:PUBLISH
BEGIN:VTIMEZONE
TZID:Pacific/Midway
X-LIC-LOCATION:Pacific/Midway
BEGIN:STANDARD
TZOFFSETFROM:-1100
TZOFFSETTO:-1100
TZNAME:SST
DTSTART:19700101T000000
END:STANDARD
END:VTIMEZONE
BEGIN:VEVENT
UID:2274639:Event:26671
DTSTAMP:20260425T055605Z
SUMMARY:The Marcellus Shale: Screening of Documentary Film
DESCRIPTION:Screening of Haynesville: A Nation's Hunt for Energy -- a 
 documentary film about the impact of the Haynesville Shale discovery i
 n Louisiana and an official selection for the 2010 SXSW Film Festival 
 in Austin, Texas.\n\nFilmmaker Gregory Kallenberg will introduce the f
 ilm and take questions after the showing.\n\nFor more information visi
 t https://gomarcellusshale.com/events/the-marcellus-shale-screening
DTSTART;TZID=Pacific/Midway:20100416T150000
DTEND;TZID=Pacific/Midway:20100416T170000
CATEGORIES:conference
LOCATION:Bucknell - Campus Theatre (413 Market Street)
WEBSITE:
URL:
CONTACT:
ORGANIZER:
ATTACH;FMTTYPE="image/jpeg":
ATTENDEE;ROLE=REQ-PARTICIPANT;PARTSTAT=ACCEPTED;RSVP=TRUE;CN="Stephani
 e Lindquist":https://gomarcellusshale.com/profile/StephanieLindquist
ATTENDEE;ROLE=REQ-PARTICIPANT;PARTSTAT=TENTATIVE;RSVP=TRUE;CN="Keith M
 auck (Site Publisher)":https://gomarcellusshale.com/profile/marcellus_
 shale
END:VEVENT
END:VCALENDAR
