BEGIN:VCALENDAR
PRODID:NingEventWidget-v1
VERSION:2.0
METHOD:PUBLISH
BEGIN:VTIMEZONE
TZID:Pacific/Midway
X-LIC-LOCATION:Pacific/Midway
BEGIN:STANDARD
TZOFFSETFROM:-1100
TZOFFSETTO:-1100
TZNAME:SST
DTSTART:19700101T000000
END:STANDARD
END:VTIMEZONE
BEGIN:VEVENT
UID:2274639:Event:322453
DTSTAMP:20260423T141507Z
SUMMARY:Truthland Screening at Pennsylvania Institute of Health & Tech
 nology
DESCRIPTION:Pennsylvania Institute of Health and Technology to host Tr
 uthland Screening on Wednesday, July 18th at 5:30pm. Come learn the tr
 uth behind the allegations in the movie 'Gasland' at a reception, scre
 ening and expert panel!\n\nFor more information visit https://gomarcel
 lusshale.com/events/truthland-screening-at-pennsylvania-institute-of-h
 ealth
DTSTART;TZID=Pacific/Midway:20120718T173000
DTEND;TZID=Pacific/Midway:20120718T193000
CATEGORIES:movie, screening
LOCATION:Pennsylvania Institute of Health and Technology
WEBSITE:http://www.piht.edu/detail.php?page_id=15
URL:http://www.piht.edu/detail.php?page_id=15
CONTACT:724-437-4600
ORGANIZER;CN="Julie Warden":https://gomarcellusshale.com/profile/Julie
 Warden
ATTACH;FMTTYPE="image/jpeg":http://storage.ning.com/topology/rest/1.0/
 file/get/97598712?profile=original
ATTENDEE;ROLE=REQ-PARTICIPANT;PARTSTAT=ACCEPTED;RSVP=TRUE;CN="Julie Wa
 rden":https://gomarcellusshale.com/profile/JulieWarden
END:VEVENT
END:VCALENDAR
