BEGIN:VCALENDAR
PRODID:NingEventWidget-v1
VERSION:2.0
METHOD:PUBLISH
BEGIN:VTIMEZONE
TZID:Pacific/Midway
X-LIC-LOCATION:Pacific/Midway
BEGIN:STANDARD
TZOFFSETFROM:-1100
TZOFFSETTO:-1100
TZNAME:SST
DTSTART:19700101T000000
END:STANDARD
END:VTIMEZONE
BEGIN:VEVENT
UID:2274639:Event:301751
DTSTAMP:20260423T164213Z
SUMMARY:Truthland Screening, Reception & Expert Panel
DESCRIPTION:The Ohio Valley College of Technology in partnership with 
 Energy In Depth has teamed-up to show support for oil and natural gas 
 production. This event will invite individuals from WV, OH and PA to a
  networking reception, a screening of the film and an expert panel imm
 ediately following the showing. For more information on the TruthLand 
 movie, which opposes the movie Gasland, please visit www.truthlandmovi
 e.com\n \n\nFor more information visit https://gomarcellusshale.com/e
 vents/truthland-screening-reception-expert-panel
DTSTART;TZID=Pacific/Midway:20120627T173000
DTEND;TZID=Pacific/Midway:20120627T193000
CATEGORIES:movie, screening, reception, expert, panel
LOCATION:Ohio Valley College of Technology
WEBSITE:http://www.ovct.edu
URL:http://www.ovct.edu
CONTACT:(330) 385-1070
ORGANIZER;CN="Julie Warden":https://gomarcellusshale.com/profile/Julie
 Warden
ATTACH;FMTTYPE="image/jpeg":
ATTENDEE;ROLE=REQ-PARTICIPANT;PARTSTAT=ACCEPTED;RSVP=TRUE;CN="Scott Ro
 gers":https://gomarcellusshale.com/profile/ScottRogers
ATTENDEE;ROLE=REQ-PARTICIPANT;PARTSTAT=ACCEPTED;RSVP=TRUE;CN="Julie Wa
 rden":https://gomarcellusshale.com/profile/JulieWarden
END:VEVENT
END:VCALENDAR
