BEGIN:VCALENDAR
PRODID:NingEventWidget-v1
VERSION:2.0
METHOD:PUBLISH
BEGIN:VTIMEZONE
TZID:Pacific/Midway
X-LIC-LOCATION:Pacific/Midway
BEGIN:STANDARD
TZOFFSETFROM:-1100
TZOFFSETTO:-1100
TZNAME:SST
DTSTART:19700101T000000
END:STANDARD
END:VTIMEZONE
BEGIN:VEVENT
UID:2274639:Event:29331
DTSTAMP:20260425T030611Z
SUMMARY:Twin Tiers Landowners Coalition Sign-up
DESCRIPTION:This will be an event where you can get information on the
  latest on the Marcellus Play and where landowners from Lawrence, Farm
 ington, Nelson, and other nearby Twps can join the Twin Tiers Landowne
 rs Coalition before the first round DEADLINE on June 8.\n\nFor more in
 formation visit https://gomarcellusshale.com/events/twin-tiers-landown
 ers
DTSTART;TZID=Pacific/Midway:20100510T183000
DTEND;TZID=Pacific/Midway:20100510T210000
CATEGORIES:membership, and, discussion
LOCATION:Nelson Community Center
WEBSITE:http://www.twintlc.com
URL:http://www.twintlc.com
CONTACT:607-329-2587
ORGANIZER;CN="Michael White":https://gomarcellusshale.com/profile/Mich
 aelWhite458
ATTACH;FMTTYPE="image/jpeg":
ATTENDEE;ROLE=REQ-PARTICIPANT;PARTSTAT=ACCEPTED;RSVP=TRUE;CN="Michael 
 White":https://gomarcellusshale.com/profile/MichaelWhite458
END:VEVENT
END:VCALENDAR
