BEGIN:VCALENDAR
PRODID:NingEventWidget-v1
VERSION:2.0
METHOD:PUBLISH
BEGIN:VTIMEZONE
TZID:Pacific/Midway
X-LIC-LOCATION:Pacific/Midway
BEGIN:STANDARD
TZOFFSETFROM:-1100
TZOFFSETTO:-1100
TZNAME:SST
DTSTART:19700101T000000
END:STANDARD
END:VTIMEZONE
BEGIN:VEVENT
UID:2274639:Event:262293
DTSTAMP:20260423T181045Z
SUMMARY:USACOE Regional Supplement Applications and Field Workshop
DESCRIPTION:Wetland Delineation for Engineers\nUSACOE Regional Supplem
 ent Applications and Field Workshop\nThis 2-day workshop is designed t
 o help you get up to speed on the use of the new US Army Corps of Engi
 neers Regional Supplements to the 1987 Wetland Delineation Manual. The
  workshop will cover:\n Vegetation\n\n Updates to the National List of
  Wetland Plants\n Plant Math – How to calculate:\n Dominance Test\n 
 50/20 rule\n Prevalence Index\n Morphological Adaptations\n Problemati
 c Hydrophytes\n FAC-Neutral Test\n And more\n\n Hydrology\n\n Updates 
 to the Hydrology Indicators\n Type A, B, C, and D indicators\n Updates
  to the Primary versus Secondary Indicators\n Importance of new satura
 ted soil indicators\n\n Soils\n\n The NEW soil indicators\n A, S and F
  indicators types\n Carbon, Sulfur and Iron Indicators\n The Importanc
 e of Oxidized Rhizospheres\n Floodplain soil indicators\n How to ident
 ify hydric red parent material soils\n\n Jurisdictional Issues\n\n Wat
 ers of the US\n Supreme Court Cases\n The NEW and expanded role of the
  private sector as a result of Sackett v. EPA\n How Sackett v. EPA is 
 related to hydrologic fracturing projects\n Georgia Pacific and NPDES 
 ruled on logging\n Normal Circumstances\n The Stockton Rule\n EPA’s 
 New Enforcement Role\n President Obama’s Clean Water Framework\n Wha
 t this means to delineation\n And much more\n\nThis workshop is a blen
 d of classroom instruction and practical field applications. Students 
 will have an opportunity to apply what they have learned in the classr
 oom to real field conditions. This class is perfect for experienced we
 tland delineators as well as those that have just started out. Join us
  for a great workshop experience and fun learning about the new Corps 
 regulations.\n Registration\n\n Location: Williamsport, Pennsylvania (
 PA)\n Date: June 26-27, 2012\n Time: 9 am - 4 PM\n Credits: 16 Profess
 ional Development Hours (PDHs)\n Tuition: $497\n\n \nFor more info: 
  http://bit.ly/PARegUp\nor call toll free:  1-877-479-2673\n\nFor mor
 e information visit https://gomarcellusshale.com/events/usacoe-regiona
 l-supplement-applications-and-field-workshop
DTSTART;TZID=Pacific/Midway:20120626T000000
DTEND;TZID=Pacific/Midway:20120627T235900
CATEGORIES:"field/class", workshop
LOCATION:Environmental Solutions Association
WEBSITE:http://bit.ly/PARegUp
URL:http://bit.ly/PARegUp
CONTACT:1-877-479-2673
ORGANIZER;CN="Marc Seelinger":https://gomarcellusshale.com/profile/Mar
 cSeelinger
ATTACH;FMTTYPE="image/jpeg":http://storage.ning.com/topology/rest/1.0/
 file/get/97595417?profile=original
ATTENDEE;ROLE=REQ-PARTICIPANT;PARTSTAT=ACCEPTED;RSVP=TRUE;CN="Marc See
 linger":https://gomarcellusshale.com/profile/MarcSeelinger
END:VEVENT
END:VCALENDAR
