BEGIN:VCALENDAR
PRODID:NingEventWidget-v1
VERSION:2.0
METHOD:PUBLISH
BEGIN:VTIMEZONE
TZID:Pacific/Midway
X-LIC-LOCATION:Pacific/Midway
BEGIN:STANDARD
TZOFFSETFROM:-1100
TZOFFSETTO:-1100
TZNAME:SST
DTSTART:19700101T000000
END:STANDARD
END:VTIMEZONE
BEGIN:VEVENT
UID:2274639:Event:564108
DTSTAMP:20260423T232256Z
SUMMARY:West Africa Exploration & Pre-Salt Forum 2014
DESCRIPTION:The West Africa Exploration and Pre-Salt Forum returns to 
 explore the key strategic and commercial opportunities related to curr
 ent exploration and production programmes in countries including Namib
 ia, Angola, Gabon and Congo.\n \nThe Second Edition of this timely fo
 rum will bring together members of country specific governments, IOCs,
  NOCs, independents and juniors, foreign investors, seismic and oilfie
 ld service providers and all other major stakeholders within the indus
 try to share their insights on optimising offshore pre-salt and subsea
  exploration within West Africa, a region with high impact exploration
  prospects and potential for lucrative investment opportunities.\n \n
 The pre-forum Namibia Foreign Investment Executive Briefing will also 
 uncover the proposed strategies for creating an investor-friendly envi
 ronment, promoting partnerships and maximising Namibia’s potential f
 or pre-salt plays.\n \nJoin an unparalleled line-up of global industr
 y leaders who will share their insights on:\n\nImplementing strategies
  to intensify oil exploration and attract      further investment\
 nAligning objectives with local      communities to achieve a   
    sustainable economy and business growth\nUncovering the latest te
 chnology      advancements for optimising seismic      imaging
  and resolution\n\n\nExploring the measures being put in place to give
  Africa competitive edge over other new frontiers – Specific example
 s for Namibia, Angola, Benin, Brazil, Cameroon, Gabon, Ghana, Ivory Co
 ast, Republic of the Congo, South Africa and many more\n\n \nDownload
  the Conference Agenda\n \nConfirmed speakers on the 2014 programme i
 nclude:\n\nImmanuel Mulunga, Petroleum Commissioner, Ministry of Mines
  and Energy, Namibia\nFrancisco Lopes Cunha, Block Chairman, Sonangol,
  Angola\nDr. Serge Edouard Angoua Biouele, Deputy Exploration Director
  & New Ventures Manager, National Hydrocarbons Corporation (SNH), Came
 roon\nGil Holzman, President and CEO, Eco Atlantic, Canada\n·    
      Dr. Alessandro Colla Regional Geomarket Director, Sub-Sahara 
 Africa, CGG, Netherlands\nNigel Quinton, Head of Exploration, Tower Re
 sources plc, UK\nViannet Okouma, Assets Development Director, Gabon Oi
 l Company, Gabon\nJean Pierre Saba, Director of Exploration, SNPC, Rep
 ublic of the Congo\n\n \nFor further information email Laurence Allen
 , Senior Marketing Manager (laurenceallen@dmgevents.com), call +44 (0)
 20 3615 0390 or please visit the event website\n\nFor more information
  visit https://gomarcellusshale.com/events/west-africa-exploration-pre
 -salt-forum-2014
DTSTART;TZID=Pacific/Midway:20140603T080000
DTEND;TZID=Pacific/Midway:20140605T170000
CATEGORIES:oil, exploration, west, africa, conference, networking
LOCATION:Safari Court Hotel
WEBSITE:http://www.presaltafrica.com
URL:http://www.presaltafrica.com
CONTACT:0044 (0) 203 615 0390
ORGANIZER;CN="Laurence Allen":https://gomarcellusshale.com/profile/Lau
 renceAllen207
ATTACH;FMTTYPE="image/jpeg":http://storage.ning.com/topology/rest/1.0/
 file/get/97609776?profile=original
ATTENDEE;ROLE=REQ-PARTICIPANT;PARTSTAT=ACCEPTED;RSVP=TRUE;CN="Laurence
  Allen":https://gomarcellusshale.com/profile/LaurenceAllen207
END:VEVENT
END:VCALENDAR
