BEGIN:VCALENDAR
PRODID:NingEventWidget-v1
VERSION:2.0
METHOD:PUBLISH
BEGIN:VTIMEZONE
TZID:Pacific/Midway
X-LIC-LOCATION:Pacific/Midway
BEGIN:STANDARD
TZOFFSETFROM:-1100
TZOFFSETTO:-1100
TZNAME:SST
DTSTART:19700101T000000
END:STANDARD
END:VTIMEZONE
BEGIN:VEVENT
UID:2274639:Event:341127
DTSTAMP:20260420T151745Z
SUMMARY:West Africa Pre-Salt Forum 2012
DESCRIPTION:The West Africa Pre-Salt Forum focuses on the opportunitie
 s for offshore pre-salt exploration in countries including Namibia, An
 gola, Gabon, Congo and examines why IOCs and NOCs are lining up for th
 e opportunity to access these high impact exploration prospects. Find 
 out more at www.presaltafrica.com or email laurenceallen@dmgevents.com
  for further information.\n \nHeld under the patronage  of the Minis
 try of Mines and Energy, Namibia, the forum brings together senior-lev
 el exploration, new venture, business development, pre-salt and subsal
 t specialists for the key topics in the form of case studies that prov
 ide the latest on the region’s potential for substantial oil discove
 ries, including:\n \nChallenges and case studies in sub-salt imaging:
  Perspectives from BP on situations in Angola and the Gulf of Mexico, 
 sharing and comparing results using RTM imaging in-house led by Jay Th
 orseth, Vice President Exploration and Appraisal, BP Angola\n \nCan w
 e Predict Huge Discoveries of Oil and Gas in Pre-salt Sequences of Ang
 ola, Namibia, Gabon and Congo given the Geological Similarities with B
 razil's Pre-Salt? Lessons learnt from recent activities in pre-salt E 
 & P deep offshore Brazil led by Dr Marcio Rocha Mello, CEO, HRT Oil & 
 Gas\n \nPre-break up Evolution of South Atlantic Basins and their Exp
 loration Potential? Review of pre-salt geology of the South Atlantic, 
 basin analysis, differences and similarities with the Brazilian margin
  led by  Dr Stefano Mora, West-East Africa New Ventures Manager, Reps
 ol\n \nGalp Energia - A multi-energy operator with a taste for Africa
 : Exploration strategies in Angola’s pre-salt and why it’s a key g
 rowth platform led by Renato de Azevedo, General Manager, GALP E & P A
 ngola\n \nVaalco’s experiences of operating in Gabon: lessons learn
 t from the last 17 years, the financial and operational challenges inv
 olved and how to overcome them led by Rod MacAlister, General Manager,
  Vaalco Gabon\n\nFor more information visit https://gomarcellusshale.c
 om/events/west-africa-pre-salt-forum-2012
DTSTART;TZID=Pacific/Midway:20121204T100000
DTEND;TZID=Pacific/Midway:20121206T180000
CATEGORIES:forum, conference, oil, gas, exploration
LOCATION:Safari Court Hotel,  Windhoek, Namibia
WEBSITE:https://maps.google.co.uk/maps?hl=en&q=safari+court+hotel+wind
 hoek&ie=UTF-8&ei=oMxEULKxN4fS0QXho4CwBA&sqi=2&ved=0CAkQ_AUoAg
URL:https://maps.google.co.uk/maps?hl=en&q=safari+court+hotel+windhoek
 &ie=UTF-8&ei=oMxEULKxN4fS0QXho4CwBA&sqi=2&ved=0CAkQ_AUoAg
CONTACT:44 (0) 203 615 0390
ORGANIZER;CN="Laurence Allen":https://gomarcellusshale.com/profile/Lau
 renceAllen207
ATTACH;FMTTYPE="image/jpeg":http://storage.ning.com/topology/rest/1.0/
 file/get/97599057?profile=original
ATTENDEE;ROLE=REQ-PARTICIPANT;PARTSTAT=ACCEPTED;RSVP=TRUE;CN="Laurence
  Allen":https://gomarcellusshale.com/profile/LaurenceAllen207
END:VEVENT
END:VCALENDAR
