BEGIN:VCALENDAR
PRODID:NingEventWidget-v1
VERSION:2.0
METHOD:PUBLISH
BEGIN:VTIMEZONE
TZID:Pacific/Midway
X-LIC-LOCATION:Pacific/Midway
BEGIN:STANDARD
TZOFFSETFROM:-1100
TZOFFSETTO:-1100
TZNAME:SST
DTSTART:19700101T000000
END:STANDARD
END:VTIMEZONE
BEGIN:VEVENT
UID:2274639:Event:276935
DTSTAMP:20260424T095150Z
SUMMARY:Western Tyler Mineral and Landowners Group Meeting
DESCRIPTION:Next Meeting will be at 6:00 PM, on Friday, March 27, 2012
  at the Little Methodist Church in Friendly WV. \nTyler County Tax As
 sessor, Jack Hayes, will be our guest speaker.\nPatience, Cooperation,
  Better Results\n\nFor more information visit https://gomarcellusshale
 .com/events/western-tyler-mineal-and-landowners-group-meeting
DTSTART;TZID=Pacific/Midway:20120427T180000
DTEND;TZID=Pacific/Midway:20120427T193000
CATEGORIES:landowner, group, meeting
LOCATION:Little Methodist Church
WEBSITE:http://www.tylerch4us.com
URL:http://www.tylerch4us.com
CONTACT:304-771-1063
ORGANIZER;CN=TylerCH4Us:https://gomarcellusshale.com/profile/TylerCH4U
 s
ATTACH;FMTTYPE="image/jpeg":
ATTENDEE;ROLE=REQ-PARTICIPANT;PARTSTAT=ACCEPTED;RSVP=TRUE;CN=TylerCH4U
 s:https://gomarcellusshale.com/profile/TylerCH4Us
END:VEVENT
END:VCALENDAR
