BEGIN:VCALENDAR
PRODID:NingEventWidget-v1
VERSION:2.0
METHOD:PUBLISH
BEGIN:VTIMEZONE
TZID:Pacific/Midway
X-LIC-LOCATION:Pacific/Midway
BEGIN:STANDARD
TZOFFSETFROM:-1100
TZOFFSETTO:-1100
TZNAME:SST
DTSTART:19700101T000000
END:STANDARD
END:VTIMEZONE
BEGIN:VEVENT
UID:2274639:Event:297517
DTSTAMP:20260423T222246Z
SUMMARY:Western Tyler Mineral and Landowners Group Meeting
DESCRIPTION:The next Western Tyler Mineral and Landowner Group meeting
  is at 6:00 PM, on Friday, June 8, 2012 at the Little Methodist Church
  in Friendly WV.  Meetings are open to all mineral and landowners.  
 We will continue to discuss lease terms and clauses.\nFor directions o
 r more information call: 304-771-1063 .\nInformation + Education + Pat
 ience + Cooperation = Better Results\nwww.tylerch4us.com\n\nFor more i
 nformation visit https://gomarcellusshale.com/events/western-tyler-min
 eral-and-landowners-group-meeting
DTSTART;TZID=Pacific/Midway:20120608T180000
DTEND;TZID=Pacific/Midway:20120608T193000
CATEGORIES:group, meeting
LOCATION:Little Methodist Church
WEBSITE:http://www.tylerch4us.com
URL:http://www.tylerch4us.com
CONTACT:304-771-1063
ORGANIZER;CN=TylerCH4Us:https://gomarcellusshale.com/profile/TylerCH4U
 s
ATTACH;FMTTYPE="image/jpeg":http://storage.ning.com/topology/rest/1.0/
 file/get/97597521?profile=original
ATTENDEE;ROLE=REQ-PARTICIPANT;PARTSTAT=ACCEPTED;RSVP=TRUE;CN=TylerCH4U
 s:https://gomarcellusshale.com/profile/TylerCH4Us
END:VEVENT
END:VCALENDAR
