BEGIN:VCALENDAR
PRODID:NingEventWidget-v1
VERSION:2.0
METHOD:PUBLISH
BEGIN:VTIMEZONE
TZID:Pacific/Midway
X-LIC-LOCATION:Pacific/Midway
BEGIN:STANDARD
TZOFFSETFROM:-1100
TZOFFSETTO:-1100
TZNAME:SST
DTSTART:19700101T000000
END:STANDARD
END:VTIMEZONE
BEGIN:VEVENT
UID:2274639:Event:310578
DTSTAMP:20260423T111827Z
SUMMARY:WETLAND DELINEATION AND REGIONAL SUPPLEMENT TRAINING
DESCRIPTION:Regional Supplements this class will coverAtlantic and Gul
 f Coastal PlainEastern Mountains & PiedmontNorth Central and North Eas
 ternSpecial focus on natural gas exploration and wetlands.More Info He
 re==>  http://bit.ly/PAWetlandsOther Class Information ==> http://Swa
 mpSchool.orgThe new Army Corps of Engineers Wetland Regional Supplemen
 ts are published and many of them are being used for permit decisions.
  Even if you are an experienced wetland delineator, you need this clas
 s. Each Regional Supplement presents unique challenges that warrant tr
 aining to fully understand.The Swamp School has developed a customized
  learning program for each of these regions. The classes are offered i
 n local provinces based upon socio- economic as well as ecological cha
 racteristics.If you want to get up to speed on the latest updates to t
 he Corps Wetland Delineation Manual sign up today at: http://SwampScho
 ol.org or call 1-877-4SwampEd (1-877-479-2673). \n\nFor more informati
 on visit https://gomarcellusshale.com/events/wetland-delineation-and-r
 egional-supplement-training
DTSTART;TZID=Pacific/Midway:20120827T000000
DTEND;TZID=Pacific/Midway:20120831T235900
CATEGORIES:training, workshop
LOCATION:Pittsburgh, PA
WEBSITE:http://bit.ly/PAWetlands
URL:http://bit.ly/PAWetlands
CONTACT:1-877-479-2673
ORGANIZER;CN="Marc Seelinger":https://gomarcellusshale.com/profile/Mar
 cSeelinger
ATTACH;FMTTYPE="image/jpeg":http://storage.ning.com/topology/rest/1.0/
 file/get/97598327?profile=original
ATTENDEE;ROLE=REQ-PARTICIPANT;PARTSTAT=ACCEPTED;RSVP=TRUE;CN="Marc See
 linger":https://gomarcellusshale.com/profile/MarcSeelinger
END:VEVENT
END:VCALENDAR
