BEGIN:VCALENDAR
PRODID:NingEventWidget-v1
VERSION:2.0
METHOD:PUBLISH
BEGIN:VTIMEZONE
TZID:Pacific/Midway
X-LIC-LOCATION:Pacific/Midway
BEGIN:STANDARD
TZOFFSETFROM:-1100
TZOFFSETTO:-1100
TZNAME:SST
DTSTART:19700101T000000
END:STANDARD
END:VTIMEZONE
BEGIN:VEVENT
UID:2274639:Event:37174
DTSTAMP:20260420T165656Z
SUMMARY:Hydric Soils, Wetland Delineation and Soils Training Courses
DESCRIPTION:This 2-hour interactive online course describes technical 
 guidelines and methods using a multi-parametric approach to identify a
 nd delineate wetlands for the purposes of Section 404 of the Clean Wat
 er Act. This course is based upon the Corps of Engineers Wetland Delin
 eation Manual published in January 1987. Modifications and clarificati
 ons have been made to the text in accordance with regulations promulga
 ted since its original release. Additional courses available in wetlan
 d delineation, stormwater, water well drilling, and more\n \nLocal Co
 urses\nHydric Soils Training Course - June 29, 2012 - Wilkes Barre, PA
 \nSoil Morphology and Stormater Applications - July 20, 2012, Wilkes- 
 Barre, PA\n\nFor more information visit https://gomarcellusshale.com/e
 vents/wetland-delineation-courses
DTSTART;TZID=Pacific/Midway:20121203T000000
DTEND;TZID=Pacific/Midway:20121203T001500
CATEGORIES:training, course, web-based
LOCATION:web-based course, field courses, soil science, stormwater, we
 tlands, hydric soils
WEBSITE:http://www.bfenvironmental.com/workshops.php
URL:http://www.bfenvironmental.com/workshops.php
CONTACT:570-335-1947
ORGANIZER;CN="Brian Oram, PG":https://gomarcellusshale.com/profile/Bri
 anOramPG
ATTACH;FMTTYPE="image/jpeg":
ATTENDEE;ROLE=REQ-PARTICIPANT;PARTSTAT=ACCEPTED;RSVP=TRUE;CN="Brian Or
 am, PG":https://gomarcellusshale.com/profile/BrianOramPG
END:VEVENT
END:VCALENDAR
