BEGIN:VCALENDAR
PRODID:NingEventWidget-v1
VERSION:2.0
METHOD:PUBLISH
BEGIN:VTIMEZONE
TZID:Pacific/Midway
X-LIC-LOCATION:Pacific/Midway
BEGIN:STANDARD
TZOFFSETFROM:-1100
TZOFFSETTO:-1100
TZNAME:SST
DTSTART:19700101T000000
END:STANDARD
END:VTIMEZONE
BEGIN:VEVENT
UID:2274639:Event:74344
DTSTAMP:20260425T022049Z
SUMMARY:Wetland Delineation Training
DESCRIPTION:Pennsylvania Wetland Delineation Training\nLocation:\n\nAq
 uascapes Unlimited Inc.\nPipersville, PA 18947 USA\n\nThis class inclu
 des training on both US Army Corps of Engineers:\n\nEastern Mountains 
 and Piedmont Regional Supplement\nNorthcentral and Northeast Supplemen
 t\n\n\nApril 4 - April 8, 2011\n\nClassroom - $950\n\n\n\nAccurate wet
 land delineations are a necessity for many types of land use projects.
  When you need to expand your business capabilities and hone your skil
 ls, this intensive combination of classroom and field training will te
 ach you what you need to know and provide valuable hands-on delineatio
 n experience. This traditional 38-hour wetlands delineation class cove
 rs the current and proposed USACOE wetlands delineation methods as wel
 l as the recent Rapanos decision. This online version has been accepte
 d as suitable training for the various States that require wetland del
 ineation certification training.\n\nAn intensive combination of online
  classroom and field training, Swamp School is a hands-on way to learn
  all the necessary skills to perform wetland delineations.\nCourse Age
 nda\n\nIntroduction to wetlands and wetlands history\nWetland Delineat
 ions Methods\nUS Army Corps of Engineers\nRegional Supplements\nFedera
 l Manual (NJ)\n\n\nWetland hydrology assessment\nHydric soils studies\
 nWetland vegetation identification\nThe Rapanos decision\n\nThis class
  contains approximately 24 hours of lectures and activities. If you ar
 e taking this class online, it is highly recommended that you allow 3 
 to 4 weeks to complete the online material. Once you have finished wit
 h the classroom lectures and activities the field component can be sta
 rted. The Swamp School offers the 2-day field class almost every month
  and in several States. Pick a date and location that fits your schedu
 le and we will see you in the swamp!\n\nWetlands delineation training 
 includes\n\n24/7 Online access to your class\n3.8 CEUs (Continuing Edu
 cation Units)\nCertificate of Training\n\nField supplies required\n\nS
 oil auger\nMunsell soil color chart\nPlant ID guide\nNotebook\n\n\nFor
  more information visit https://gomarcellusshale.com/events/wetland-de
 lineation-training
DTSTART;TZID=Pacific/Midway:20110404T000000
DTEND;TZID=Pacific/Midway:20110408T235900
CATEGORIES:wetland, training
LOCATION:Aquscapes Unlimited
WEBSITE:http://swampschool.org
URL:http://swampschool.org
CONTACT:1-877-479-2673
ORGANIZER;CN="Marc Seelinger":https://gomarcellusshale.com/profile/Mar
 cSeelinger
ATTACH;FMTTYPE="image/jpeg":
ATTENDEE;ROLE=REQ-PARTICIPANT;PARTSTAT=ACCEPTED;RSVP=TRUE;CN="Marc See
 linger":https://gomarcellusshale.com/profile/MarcSeelinger
END:VEVENT
END:VCALENDAR
