BEGIN:VCALENDAR
PRODID:NingEventWidget-v1
VERSION:2.0
METHOD:PUBLISH
BEGIN:VTIMEZONE
TZID:Pacific/Midway
X-LIC-LOCATION:Pacific/Midway
BEGIN:STANDARD
TZOFFSETFROM:-1100
TZOFFSETTO:-1100
TZNAME:SST
DTSTART:19700101T000000
END:STANDARD
END:VTIMEZONE
BEGIN:VEVENT
UID:2274639:Event:316276
DTSTAMP:20260423T043800Z
SUMMARY:Wetland Plant Field Identification
DESCRIPTION:Sponsor:  The Swamp School, LLC\nhttp://SwampSchool.org\n
 \nEastern Mountains and Piedmont Northcentral and Northeast US Army Co
 rps of Engineers Regional Supplements Wetland Plant Identification  Se
 ptember 25-26, 2012  Join us for a terrific two-day field workshop in 
 northeastern Pennsylvania and learn your wetland plants. The class is 
 entirely a field workshop. Each day we will set out on the trail to id
 entify different wetland habitats and their unique vegetative communit
 ies. The class will be lead by a team of expert botanists who will sho
 w you the tips and tricks to quickly identify the plants that are in t
 he area. We will also be recording the vegetation found on the US Army
  Corps of Engineers Regional Supplement Data forms and will review the
  \"plant math\" to determine if the habitat is a wetland plant communi
 ty.  For more information please visit our website at: http://bit.ly/P
 APlants\n\nFor more information visit https://gomarcellusshale.com/eve
 nts/wetland-plant-field-identification
DTSTART;TZID=Pacific/Midway:20120925T000000
DTEND;TZID=Pacific/Midway:20120926T235900
CATEGORIES:training
LOCATION:Pocono Mountains, Pennsylvania (PA)
WEBSITE:http://bit.ly/PAPlants
URL:http://bit.ly/PAPlants
CONTACT:877-479-2673
ORGANIZER;CN="Marc Seelinger":https://gomarcellusshale.com/profile/Mar
 cSeelinger
ATTACH;FMTTYPE="image/jpeg":http://storage.ning.com/topology/rest/1.0/
 file/get/97598247?profile=original
ATTENDEE;ROLE=REQ-PARTICIPANT;PARTSTAT=ACCEPTED;RSVP=TRUE;CN="Marc See
 linger":https://gomarcellusshale.com/profile/MarcSeelinger
END:VEVENT
END:VCALENDAR
