BEGIN:VCALENDAR
PRODID:NingEventWidget-v1
VERSION:2.0
METHOD:PUBLISH
BEGIN:VTIMEZONE
TZID:Pacific/Midway
X-LIC-LOCATION:Pacific/Midway
BEGIN:STANDARD
TZOFFSETFROM:-1100
TZOFFSETTO:-1100
TZNAME:SST
DTSTART:19700101T000000
END:STANDARD
END:VTIMEZONE
BEGIN:VEVENT
UID:2274639:Event:365632
DTSTAMP:20260420T214915Z
SUMMARY:Wetland Plant ID Webinar
DESCRIPTION:Webinar\nWetland Plant IdentificationThe Common Trees of t
 he Northeast and Mid Atlantic\nNovember 28, 2012\n2:00 PM EST - 4 PM E
 ST\n2 Professional Development Hours (PDHs) are offered for this webin
 ar. A certificate of training will be made available for each register
 ed attendee.\n\nDo you need to learn you plants quickly? If so, join u
 s for our newest webinar focusing on wetland trees. No need to travel.
  Weather is not an issue. Just sit back and spend an hour with us and 
 learn your trees. This session will focus on the most common trees fou
 nd in wetland in the northeast and mid-Atlantic region. It covers port
 ions of the Eastern Mountains and Piedmont, Northcentral and Northeast
 , and the Atlantic and Gulf Coastal Plain Regional Supplements to the 
 US Army Corps of Engineers Wetland Delineation Manual. This session wi
 ll cover basic tree identification and will include many of those fun 
 mnemonic tricks to remember your trees like MAD Cap Horse. If you have
  had one of our wetland plant field class, this is a great review. If 
 you are brand new to tree identification, this is a great way to get u
 p to speed on the most common trees species found in the region. This 
 is our first in a series of wetland plant webinars. We will be offerin
 g shrubs, herbs, grasses, rushes and sedges, and woody vines in upcomi
 ng webinars this winter. So grab a cup of hot chocolate and stay warm 
 while you learn your wetland plants. The webinar is live and interacti
 ve. You will be able to ask questions during the webinar and after. We
  will post resource materials and Q&A in our Swamp School webinar cent
 er. You will have access to this before and after the class. We will a
 lso post the rebroadcast in the webinar center for viewing at a later 
 date. We are also trying a new non-Power Point format that is just pla
 in fun. Slides are too linear anyway. So get ready for a truly unique 
 webinar on tree identification.\n\nFor more information visit https://
 gomarcellusshale.com/events/wetland-plant-id-webinar
DTSTART;TZID=Pacific/Midway:20121128T140000
DTEND;TZID=Pacific/Midway:20121128T160000
CATEGORIES:webinar
LOCATION:Webinar
WEBSITE:https://swampschool.infusionsoft.com/app/storeFront/showProduc
 tDetail?productId=256
URL:https://swampschool.infusionsoft.com/app/storeFront/showProductDet
 ail?productId=256
CONTACT:The Swamp School, LLC
ORGANIZER;CN="Marc Seelinger":https://gomarcellusshale.com/profile/Mar
 cSeelinger
ATTACH;FMTTYPE="image/jpeg":http://storage.ning.com/topology/rest/1.0/
 file/get/97600289?profile=original
ATTENDEE;ROLE=REQ-PARTICIPANT;PARTSTAT=ACCEPTED;RSVP=TRUE;CN="Marc See
 linger":https://gomarcellusshale.com/profile/MarcSeelinger
END:VEVENT
END:VCALENDAR
