BEGIN:VCALENDAR
PRODID:NingEventWidget-v1
VERSION:2.0
METHOD:PUBLISH
BEGIN:VTIMEZONE
TZID:Pacific/Midway
X-LIC-LOCATION:Pacific/Midway
BEGIN:STANDARD
TZOFFSETFROM:-1100
TZOFFSETTO:-1100
TZNAME:SST
DTSTART:19700101T000000
END:STANDARD
END:VTIMEZONE
BEGIN:VEVENT
UID:2274639:Event:498973
DTSTAMP:20260420T070830Z
SUMMARY:Wetland Training Pittsburgh
DESCRIPTION:The training includes a 5 day field and classroom workshop
 . In the classroom we will present the specific refinements to the 198
 7 Wetlands Delineation Manual. Both manuals present changes to the ana
 lysis of soils, vegetation and hydrology. The focus of the discussion 
 will be to highlight the changes as well as discuss potential ramifica
 tions of adding new wetland indicators. Many of the public comments fo
 cus on the implication that sites might be called wetlands under the n
 ew Manuals that may not have been identified using just the 1987 Manua
 l.\n\nFor more information visit https://gomarcellusshale.com/events/w
 etland-training-pittsburgh
DTSTART;TZID=Pacific/Midway:20131021T000000
DTEND;TZID=Pacific/Midway:20131025T235900
CATEGORIES:training
LOCATION:Beaver County, PA
WEBSITE:https://swampschool.infusionsoft.com/app/storeFront/showProduc
 tDetail?productId=299
URL:https://swampschool.infusionsoft.com/app/storeFront/showProductDet
 ail?productId=299
CONTACT:1-877-479-2673
ORGANIZER;CN="Marc Seelinger":https://gomarcellusshale.com/profile/Mar
 cSeelinger
ATTACH;FMTTYPE="image/jpeg":http://storage.ning.com/topology/rest/1.0/
 file/get/97605591?profile=original
ATTENDEE;ROLE=REQ-PARTICIPANT;PARTSTAT=ACCEPTED;RSVP=TRUE;CN="Marc See
 linger":https://gomarcellusshale.com/profile/MarcSeelinger
END:VEVENT
END:VCALENDAR
