BEGIN:VCALENDAR
PRODID:NingEventWidget-v1
VERSION:2.0
METHOD:PUBLISH
BEGIN:VTIMEZONE
TZID:Pacific/Midway
X-LIC-LOCATION:Pacific/Midway
BEGIN:STANDARD
TZOFFSETFROM:-1100
TZOFFSETTO:-1100
TZNAME:SST
DTSTART:19700101T000000
END:STANDARD
END:VTIMEZONE
BEGIN:VEVENT
UID:2274639:Event:499024
DTSTAMP:20260420T034012Z
SUMMARY:Wetlands and the Courts Webinar
DESCRIPTION:The first major Supreme Court case involving wetlands was 
 the Riverside Bayview case in 1985.  Since then we have had a number 
 of important and oftentimes confusing rulings from the bench.  The mo
 st notable is the now famous Rapanos and Carabell case of 2006.\nMore 
 recently, the Court has ruled on various property rights issues involv
 ing takings, procedural matters, and whether wetland mitigation is unc
 onstitutional.   \nTo help you stay abreast of all of the latest dec
 isions The Swamp School is presenting a webinar on all of the importan
 t wetland legal challenges put before the Supreme Court and some of th
 e lower Federal courts.  This is a must see event if you are trying t
 o help your clients navigate through the maze of regulations and rulin
 gs.\nThis is not your typical “death by Power Point” webinar.  Yo
 u will be able to participate in the webinar using our live chat and i
 nteract with the presenter.  You will also have access to class hando
 ut materials, a special “students only” email link that you can po
 st questions to and review after the webinar, as well as access to a r
 ecording of the webinar.  This is really handy if you just cannot mak
 e the date and still want to participate in the webinar.\n\nFor more i
 nformation visit https://gomarcellusshale.com/events/wetlands-and-the-
 courts-webinar
DTSTART;TZID=Pacific/Midway:20130918T130000
DTEND;TZID=Pacific/Midway:20130918T150000
CATEGORIES:webinar
LOCATION:Online
WEBSITE:https://swampschool.infusionsoft.com/app/storeFront/showProduc
 tDetail?productId=303
URL:https://swampschool.infusionsoft.com/app/storeFront/showProductDet
 ail?productId=303
CONTACT:1-877-479-2673
ORGANIZER;CN="Marc Seelinger":https://gomarcellusshale.com/profile/Mar
 cSeelinger
ATTACH;FMTTYPE="image/jpeg":http://storage.ning.com/topology/rest/1.0/
 file/get/97605663?profile=original
ATTENDEE;ROLE=REQ-PARTICIPANT;PARTSTAT=ACCEPTED;RSVP=TRUE;CN="Marc See
 linger":https://gomarcellusshale.com/profile/MarcSeelinger
END:VEVENT
END:VCALENDAR
