BEGIN:VCALENDAR
PRODID:NingEventWidget-v1
VERSION:2.0
METHOD:PUBLISH
BEGIN:VTIMEZONE
TZID:Pacific/Midway
X-LIC-LOCATION:Pacific/Midway
BEGIN:STANDARD
TZOFFSETFROM:-1100
TZOFFSETTO:-1100
TZNAME:SST
DTSTART:19700101T000000
END:STANDARD
END:VTIMEZONE
BEGIN:VEVENT
UID:2274639:Event:681191
DTSTAMP:20260424T165721Z
SUMMARY:Waters of the US 2015 Rules
DESCRIPTION:On May 27, 2015 the US Environmental Protection Agency (EP
 A) and the US army Corps of Engineers (USACE) announced the publicatio
 n of the Final “Waters of the US” rule.   This new rule encompas
 ses more than 1,000 pages of technical data and describes the methods 
 and means for identifying the extent of Federal “Waters of the US”
  jurisdiction.  There are many significant changes in the final rule 
 that were not mentioned in the original proposed rule.\n To help you q
 uickly get up to speed on all of the changes, updates, and modificatio
 ns presented in the Final rule, the Swamp School has prepared a regula
 tory update webinar scheduled for July 9, 2015 at 1 PM EST.  This webi
 nar will present an overview of the major aspects of the Final rule in
 cluding:\n\nHow the 100 year floodplain is used to establish jurisdict
 ion\nThe 4,000 foot offset rule\nWhen are ditches jurisdictional\nWhat
  is a puddle\nCategorical Significant Nexus\nThe new 400+ page USACE/E
 PA technical support document\nImportant new rule definitions\nJurisdi
 ctional designated wetland habitats\nPlus much more!\n\n No matter wha
 t industry you are in, this webinar is important to attend.  The exte
 nt of Federal jurisdiction of US waters impacts anyone who works, owns
  or operates anywhere in the US.  Waters are everywhere and you need 
 to know how these new rules will affect you.\n Join us online on July 
 9, 2015 from 1 PM – 3 PM EST.\n\nFor more information visit https://
 gomarcellusshale.com/events/wtaers-of-the-us-2015-rules
DTSTART;TZID=Pacific/Midway:20150709T130000
DTEND;TZID=Pacific/Midway:20150709T150000
CATEGORIES:webinar
LOCATION:SwampSchool.org
WEBSITE:https://swampschool.infusionsoft.com/app/storeFront/showProduc
 tDetail?productId=513
URL:https://swampschool.infusionsoft.com/app/storeFront/showProductDet
 ail?productId=513
CONTACT:877-479-2673
ORGANIZER:The Swamp School
ATTACH;FMTTYPE="image/jpeg":http://storage.ning.com/topology/rest/1.0/
 file/get/97615310?profile=original
ATTENDEE;ROLE=REQ-PARTICIPANT;PARTSTAT=ACCEPTED;RSVP=TRUE;CN="Marc See
 linger":https://gomarcellusshale.com/profile/MarcSeelinger
END:VEVENT
END:VCALENDAR
