BEGIN:VCALENDAR
PRODID:NingEventWidget-v1
VERSION:2.0
METHOD:PUBLISH
BEGIN:VTIMEZONE
TZID:Pacific/Midway
X-LIC-LOCATION:Pacific/Midway
BEGIN:STANDARD
TZOFFSETFROM:-1100
TZOFFSETTO:-1100
TZNAME:SST
DTSTART:19700101T000000
END:STANDARD
END:VTIMEZONE
BEGIN:VEVENT
UID:2274639:Event:24024
DTSTAMP:20260425T113619Z
SUMMARY:Wyoming Countly Landowners Lease Negotiation & Financial Educa
 tion Dinner
DESCRIPTION:Topics: Examining Royalty Calculations, Evaluating Pipelin
 e Agreements and Surface Use Agreements, Taxation of Lump Sum Payments
 , Overview of Estate Planning and Estate Administration, Estate Planni
 ng Techniques for Gas Leases, Paying off Debt & Managing Cash Flow, Un
 derstanding your Investment Options\n\nDouglas A. Clark, Esq.\nColeman
  and Clark Law Offices, LLC\n\nKris E. Fendrock, Esq.\nMyers, Brier & 
 Kelly, LLP\n\nJude R. McDonough, CFP®\nRobert C. Orbin, Jr.\nSterling
  Investment Advisors, Ltd.\n\nAll Attendees will also be entered in a 
 raffle to win a $50 Mohegan Sun gift card!\n\nThere is a limit to atte
 ndance so reservations will be secured in the order received\n\nRSVP t
 o Michelle Smaltz, 877-430-7382 x120 or smaltzm@sterling-advisors.com\
 n\nFor more information visit https://gomarcellusshale.com/events/wyom
 ing-countly-landowners
DTSTART;TZID=Pacific/Midway:20100323T180000
DTEND;TZID=Pacific/Midway:20100323T193000
CATEGORIES:educational
LOCATION:Twigs Cafe
WEBSITE:http://www.twigscafe.com
URL:http://www.twigscafe.com
CONTACT:877-430-7382 x133
ORGANIZER;CN="Jude McDonough":https://gomarcellusshale.com/profile/Jud
 eMcDonough
ATTACH;FMTTYPE="image/jpeg":
ATTENDEE;ROLE=REQ-PARTICIPANT;PARTSTAT=ACCEPTED;RSVP=TRUE;CN="Bob Orbi
 n":https://gomarcellusshale.com/profile/BobOrbin
ATTENDEE;ROLE=REQ-PARTICIPANT;PARTSTAT=ACCEPTED;RSVP=TRUE;CN="Jude McD
 onough":https://gomarcellusshale.com/profile/JudeMcDonough
END:VEVENT
END:VCALENDAR
