BEGIN:VCALENDAR
PRODID:NingEventWidget-v1
VERSION:2.0
METHOD:PUBLISH
BEGIN:VTIMEZONE
TZID:Pacific/Midway
X-LIC-LOCATION:Pacific/Midway
BEGIN:STANDARD
TZOFFSETFROM:-1100
TZOFFSETTO:-1100
TZNAME:SST
DTSTART:19700101T000000
END:STANDARD
END:VTIMEZONE
BEGIN:VEVENT
UID:2274639:Event:29679
DTSTAMP:20260425T013923Z
SUMMARY:Wyoming County Landowners Lease Negotiation & Financial Educat
 ion Dinner
DESCRIPTION:Please join us for dinner as our speakers discuss the foll
 owing topics:\n\nPipeline & Surface Use Agreements\nTaxation of Lump S
 um Payments\nPaying off Debt & Managing Cash Flow\nUnderstanding your 
 Investment Options\nEstate Planning Techniques for Gas Leases\n\nSpeak
 ers include:\n\nJude R. McDonough, CFP®\nRobert C. Orbin, Jr., MBA\nS
 terling Investment Advisors, Ltd.\n\nJeffrey J. Malak, Esq.\nChariton 
 & Schwager\n\nThere is a limit to attendance so reservations will be s
 ecured in the order received\n\nFor more information visit https://gom
 arcellusshale.com/events/wyoming-county-landowners
DTSTART;TZID=Pacific/Midway:20100520T180000
DTEND;TZID=Pacific/Midway:20100520T200000
CATEGORIES:educational
LOCATION:Twigs Cafe
WEBSITE:
URL:
CONTACT:877-430-7382 x133
ORGANIZER;CN="Jude McDonough":https://gomarcellusshale.com/profile/Jud
 eMcDonough
ATTACH;FMTTYPE="image/jpeg":
ATTENDEE;ROLE=REQ-PARTICIPANT;PARTSTAT=ACCEPTED;RSVP=TRUE;CN="Jude McD
 onough":https://gomarcellusshale.com/profile/JudeMcDonough
END:VEVENT
END:VCALENDAR
