BEGIN:VCALENDAR
PRODID:NingEventWidget-v1
VERSION:2.0
METHOD:PUBLISH
BEGIN:VTIMEZONE
TZID:Pacific/Midway
X-LIC-LOCATION:Pacific/Midway
BEGIN:STANDARD
TZOFFSETFROM:-1100
TZOFFSETTO:-1100
TZNAME:SST
DTSTART:19700101T000000
END:STANDARD
END:VTIMEZONE
BEGIN:VEVENT
UID:2274639:Event:367651
DTSTAMP:20260420T133518Z
SUMMARY:Year End Planning Considerations for 2012 Mineral Lease Bonuse
 s
DESCRIPTION:Registration Fee:   FREE, Registration RequiredTime:  
  6:00 pm - 7:30 pmLocation:   Cambridge Campus, Room 520Instructor:
    Benjamin E. Tegel and Matthew J. BurnhamTo Register:   Contact 
 (740) 588-1324 or shesson@zanestate.edu\nAs exploration and drilling a
 ctivity in the Utica and Marcellus Shale formations continues to grow,
  landowners and farmers are facing increasingly difficult financial de
 cisions.  With the year drawing to a close, these decisions require s
 pecial attention as the \"fiscal cliff\", increases in taxes, and auto
 matic government spending cuts may impact you beginning as early as Ja
 nuary of 2013.  Join us as we outline some of the potential changes 
 and discuss other items to consider as you build your plan for bonus p
 ayments received or expected from mineral leases. \nInstructor Benjam
 in E. Tegel is a Financial Advisor with a background in security analy
 sis and data management.  Ben started his financial advisory practice
  in 2005 and primarily works with business owners, executives and bene
 ficiaries of the Utica Shale Development.  Prior to joining UBS, Ben 
 worked for Morningstar, Inc., a leading provider of independent financ
 ial research and analysis.\nInstructor Matthew J. Burnham is a Financi
 al Advisor with an extensive background in Liability Management, Real 
 Estate Finance, and a specialty in Oil & Gas related financial issues
 .  Matt's clientele include landowners,farmers, business owners and e
 xecutives. \n\nFor more information visit https://gomarcellusshale.co
 m/events/year-end-planning-considerations-for-2012-mineral-lease-bonus
 es
DTSTART;TZID=Pacific/Midway:20121205T180000
DTEND;TZID=Pacific/Midway:20121205T193000
CATEGORIES:community, education
LOCATION:Zane State College, Cambridge Campus Room 520
WEBSITE:http://www.zanestate.edu/community-education
URL:http://www.zanestate.edu/community-education
CONTACT:(740) 588-1324
ORGANIZER:Zane State College
ATTACH;FMTTYPE="image/jpeg":
ATTENDEE;ROLE=REQ-PARTICIPANT;PARTSTAT=ACCEPTED;RSVP=TRUE;CN=Matt:http
 s://gomarcellusshale.com/profile/Matt319
END:VEVENT
END:VCALENDAR
